BEGIN:VCALENDAR
VERSION:2.0
PRODID:-//85.13.164.211//NONSGML kigkonsult.se iCalcreator 2.20//
CALSCALE:GREGORIAN
METHOD:PUBLISH
X-WR-TIMEZONE:UTC
BEGIN:VEVENT
UID:event122@Weingut Lange Schloss Saaleck, Hammelburg
DTSTAMP:20260425T135829Z
CATEGORIES:Feste\, Veranstaltungen und Messen
DESCRIPTION:Tage der Winzer - Bewirtung an der  Weinterrasse\nKategorie: Fe
 ste\, Veranstaltungen und Messen\nICS-Link: https://weingut-schloss-saalec
 k.de/index.php?option=com_jem&view=event&id=122:tage-der-winzer\n
DTSTART:20260425T140000Z
DTEND:20260426T230000Z
LOCATION:Weinkeller am Schloss Saaleck\,Saaleckstraße 2\,97762 Hammelburg
SUMMARY:Tage der Winzer - Bewirtung an der  Weinterrasse
URL:https://weingut-schloss-saaleck.de/index.php?option=com_jem&view=event&
 id=122:tage-der-winzer
END:VEVENT
END:VCALENDAR