BEGIN:VCALENDAR
VERSION:2.0
PRODID:-//85.13.164.211//NONSGML kigkonsult.se iCalcreator 2.20//
CALSCALE:GREGORIAN
METHOD:PUBLISH
X-WR-TIMEZONE:UTC
BEGIN:VEVENT
UID:event123@Privat-Winery Schloss Saaleck, Hammelburg
DTSTAMP:20260422T091821Z
CATEGORIES:Feste\, Veranstaltungen und Messen
DESCRIPTION:Schwarzer Markt Coburg - Weinstand\nCategory: Feste\, Veranstal
 tungen und Messen\nLink: https://weingut-schloss-saaleck.de/index.php?opti
 on=com_jem&view=event&id=123:weinstand-coburg\n
DTSTART;VALUE=DATE:20260514
DTEND;VALUE=DATE:20260518
LOCATION:Alte Pakethalle - Coburg\,Am Güterbahnhof 15\,96450 Coburg
SUMMARY:Schwarzer Markt Coburg - Weinstand
URL:https://weingut-schloss-saaleck.de/index.php?option=com_jem&view=event&
 id=123:weinstand-coburg
END:VEVENT
END:VCALENDAR