BEGIN:VCALENDAR
VERSION:2.0
PRODID:-//85.13.164.211//NONSGML kigkonsult.se iCalcreator 2.20//
CALSCALE:GREGORIAN
METHOD:PUBLISH
X-WR-TIMEZONE:UTC
BEGIN:VEVENT
UID:event92@Privat-Winery Schloss Saaleck, Hammelburg
DTSTAMP:20260424T074039Z
CATEGORIES:Feste\, Veranstaltungen und Messen
DESCRIPTION:Rebsorten erkennen - Ampelographie \nCategory: Feste\, Veransta
 ltungen und Messen\nLink: https://weingut-schloss-saaleck.de/index.php?opt
 ion=com_jem&view=event&id=92:reben-erkennen\n
DTSTART:20200928T180000Z
DTEND:20200928T203000Z
LOCATION:Veranstaltung im Weinberg\,Saaleckstraße 2\,97762 Hammelburg
SUMMARY:Rebsorten erkennen - Ampelographie 
URL:https://weingut-schloss-saaleck.de/index.php?option=com_jem&view=event&
 id=92:reben-erkennen
END:VEVENT
END:VCALENDAR