BEGIN:VCALENDAR
VERSION:2.0
PRODID:-//85.13.164.211//NONSGML kigkonsult.se iCalcreator 2.20//
CALSCALE:GREGORIAN
METHOD:PUBLISH
X-WR-TIMEZONE:UTC
BEGIN:VEVENT
UID:event115@Privat-Winery Schloss Saaleck, Hammelburg
DTSTAMP:20260425T013732Z
CATEGORIES:verkaufsoffen
DESCRIPTION:Mantelsonntag - Vinothek geöffnet\nCategory: verkaufsoffen\nLin
 k: https://weingut-schloss-saaleck.de/index.php?option=com_jem&view=event&
 id=115:verkaufsoffener-sonntag\n
DTSTART:20251109T120000Z
DTEND:20251109T170000Z
SUMMARY:Mantelsonntag - Vinothek geöffnet
URL:https://weingut-schloss-saaleck.de/index.php?option=com_jem&view=event&
 id=115:verkaufsoffener-sonntag
END:VEVENT
END:VCALENDAR